BEGIN:VCALENDAR
VERSION:2.0
PRODID:-//jEvents 2.0 for Joomla//EN
CALSCALE:GREGORIAN
METHOD:PUBLISH
BEGIN:VTIMEZONE
TZID:Europe/Berlin
BEGIN:STANDARD
DTSTART:20250221T000000
RDATE:20250330T030000
TZOFFSETFROM:+0200
TZOFFSETTO:+0100
TZNAME:Europe/Berlin CET
END:STANDARD
BEGIN:STANDARD
DTSTART:20251026T020000
RDATE:20260329T030000
TZOFFSETFROM:+0200
TZOFFSETTO:+0100
TZNAME:Europe/Berlin CET
END:STANDARD
BEGIN:STANDARD
DTSTART:20261025T020000
RDATE:20270328T030000
TZOFFSETFROM:+0200
TZOFFSETTO:+0100
TZNAME:Europe/Berlin CET
END:STANDARD
BEGIN:STANDARD
DTSTART:20271031T020000
RDATE:20280326T030000
TZOFFSETFROM:+0200
TZOFFSETTO:+0100
TZNAME:Europe/Berlin CET
END:STANDARD
BEGIN:STANDARD
DTSTART:20281029T020000
RDATE:20290325T030000
TZOFFSETFROM:+0200
TZOFFSETTO:+0100
TZNAME:Europe/Berlin CET
END:STANDARD
BEGIN:DAYLIGHT
DTSTART:20250330T030000
RDATE:20251026T020000
TZOFFSETFROM:+0100
TZOFFSETTO:+0200
TZNAME:Europe/Berlin CEST
END:DAYLIGHT
BEGIN:DAYLIGHT
DTSTART:20260329T030000
RDATE:20261025T020000
TZOFFSETFROM:+0100
TZOFFSETTO:+0200
TZNAME:Europe/Berlin CEST
END:DAYLIGHT
BEGIN:DAYLIGHT
DTSTART:20270328T030000
RDATE:20271031T020000
TZOFFSETFROM:+0100
TZOFFSETTO:+0200
TZNAME:Europe/Berlin CEST
END:DAYLIGHT
BEGIN:DAYLIGHT
DTSTART:20280326T030000
RDATE:20281029T020000
TZOFFSETFROM:+0100
TZOFFSETTO:+0200
TZNAME:Europe/Berlin CEST
END:DAYLIGHT
END:VTIMEZONE
BEGIN:VEVENT
UID:f8bef19d4b3feb877ffb44a1c34c0f94
CATEGORIES:Wanderprogramm
CREATED:20260219T094343
SUMMARY:Extratour: Wiederholung der Winterwanderung vom 8.2.26
DESCRIPTION:Extratour\nAufgrund sehr hoher Nachfrage zur Winterwanderung (Bad Herrenalb
  nach Dobel) am 8.2.26 \nWiederholen wir am 22.2.26 die Wanderung.\nBeschre
 ibung siehe Homepage "Aktuelles" und Wanderprogramm vom 8.2.26\n
X-ALT-DESC;FMTTYPE=text/html:<p>Extratour<br />Aufgrund sehr hoher Nachfrage zur Winterwanderung (Bad He
 rrenalb nach Dobel) am 8.2.26 <br />Wiederholen wir am 22.2.26 die Wanderun
 g.</p><p>Beschreibung siehe Homepage "Aktuelles" und Wanderprogramm vom 8.2
 .26</p>
DTSTAMP:20260419T210606
DTSTART;TZID=Europe/Berlin;VALUE=DATE:20260222
DTEND;TZID=Europe/Berlin;VALUE=DATE:20260223
SEQUENCE:0
TRANSP:OPAQUE
END:VEVENT
END:VCALENDAR