BEGIN:VCALENDAR
VERSION:2.0
PRODID:-//jEvents 2.0 for Joomla//EN
CALSCALE:GREGORIAN
METHOD:PUBLISH
BEGIN:VTIMEZONE
TZID:Europe/Berlin
BEGIN:STANDARD
DTSTART:20241027T020000
RDATE:20250330T030000
TZOFFSETFROM:+0200
TZOFFSETTO:+0100
TZNAME:Europe/Berlin CET
END:STANDARD
BEGIN:STANDARD
DTSTART:20251026T020000
RDATE:20260329T030000
TZOFFSETFROM:+0200
TZOFFSETTO:+0100
TZNAME:Europe/Berlin CET
END:STANDARD
BEGIN:STANDARD
DTSTART:20261025T020000
RDATE:20270328T030000
TZOFFSETFROM:+0200
TZOFFSETTO:+0100
TZNAME:Europe/Berlin CET
END:STANDARD
BEGIN:STANDARD
DTSTART:20271031T020000
RDATE:20280326T030000
TZOFFSETFROM:+0200
TZOFFSETTO:+0100
TZNAME:Europe/Berlin CET
END:STANDARD
BEGIN:STANDARD
DTSTART:20281029T020000
RDATE:20290325T030000
TZOFFSETFROM:+0200
TZOFFSETTO:+0100
TZNAME:Europe/Berlin CET
END:STANDARD
BEGIN:DAYLIGHT
DTSTART:20240927T000000
RDATE:20241027T020000
TZOFFSETFROM:+0100
TZOFFSETTO:+0200
TZNAME:Europe/Berlin CEST
END:DAYLIGHT
BEGIN:DAYLIGHT
DTSTART:20250330T030000
RDATE:20251026T020000
TZOFFSETFROM:+0100
TZOFFSETTO:+0200
TZNAME:Europe/Berlin CEST
END:DAYLIGHT
BEGIN:DAYLIGHT
DTSTART:20260329T030000
RDATE:20261025T020000
TZOFFSETFROM:+0100
TZOFFSETTO:+0200
TZNAME:Europe/Berlin CEST
END:DAYLIGHT
BEGIN:DAYLIGHT
DTSTART:20270328T030000
RDATE:20271031T020000
TZOFFSETFROM:+0100
TZOFFSETTO:+0200
TZNAME:Europe/Berlin CEST
END:DAYLIGHT
BEGIN:DAYLIGHT
DTSTART:20280326T030000
RDATE:20281029T020000
TZOFFSETFROM:+0100
TZOFFSETTO:+0200
TZNAME:Europe/Berlin CEST
END:DAYLIGHT
END:VTIMEZONE
BEGIN:VEVENT
UID:1327662644cd62d1c453abcc3937164e
CATEGORIES:Wanderprogramm
CREATED:20250116T094924
SUMMARY:Pilzwanderung
DESCRIPTION:Pilzwanderung \n(Zeitpunkt abhängig vom Pilzaufkommen), max. 15 Pers.\nJutt
 a Kirchvogel\nHW, PKW\n6 - 8 km\n
X-ALT-DESC;FMTTYPE=text/html:<table style="width: 533px;" width="406"><tbody><tr><td style="width: 407.0
 94px;" width="246"><p><strong>Pilzwanderung <br /></strong>(Zeitpunkt abhän
 gig vom Pilzaufkommen), max. 15 Pers.<strong><br /></strong>Jutta Kirchvoge
 l</p></td><td style="width: 118.906px;" width="95"><p>HW, <strong>PKW</stro
 ng></p><p>6 - 8 km</p></td></tr></tbody></table>
DTSTAMP:20260423T104140
DTSTART;TZID=Europe/Berlin;VALUE=DATE:20250928
DTEND;TZID=Europe/Berlin;VALUE=DATE:20250929
SEQUENCE:0
TRANSP:OPAQUE
END:VEVENT
END:VCALENDAR