BEGIN:VCALENDAR
VERSION:2.0
PRODID:-//jEvents 2.0 for Joomla//EN
CALSCALE:GREGORIAN
METHOD:PUBLISH
BEGIN:VTIMEZONE
TZID:Europe/Berlin
BEGIN:STANDARD
DTSTART:20241027T020000
RDATE:20250330T030000
TZOFFSETFROM:+0200
TZOFFSETTO:+0100
TZNAME:Europe/Berlin CET
END:STANDARD
BEGIN:STANDARD
DTSTART:20251026T020000
RDATE:20260329T030000
TZOFFSETFROM:+0200
TZOFFSETTO:+0100
TZNAME:Europe/Berlin CET
END:STANDARD
BEGIN:STANDARD
DTSTART:20261025T020000
RDATE:20270328T030000
TZOFFSETFROM:+0200
TZOFFSETTO:+0100
TZNAME:Europe/Berlin CET
END:STANDARD
BEGIN:STANDARD
DTSTART:20271031T020000
RDATE:20280326T030000
TZOFFSETFROM:+0200
TZOFFSETTO:+0100
TZNAME:Europe/Berlin CET
END:STANDARD
BEGIN:STANDARD
DTSTART:20281029T020000
RDATE:20290325T030000
TZOFFSETFROM:+0200
TZOFFSETTO:+0100
TZNAME:Europe/Berlin CET
END:STANDARD
BEGIN:DAYLIGHT
DTSTART:20240531T000000
RDATE:20241027T020000
TZOFFSETFROM:+0100
TZOFFSETTO:+0200
TZNAME:Europe/Berlin CEST
END:DAYLIGHT
BEGIN:DAYLIGHT
DTSTART:20250330T030000
RDATE:20251026T020000
TZOFFSETFROM:+0100
TZOFFSETTO:+0200
TZNAME:Europe/Berlin CEST
END:DAYLIGHT
BEGIN:DAYLIGHT
DTSTART:20260329T030000
RDATE:20261025T020000
TZOFFSETFROM:+0100
TZOFFSETTO:+0200
TZNAME:Europe/Berlin CEST
END:DAYLIGHT
BEGIN:DAYLIGHT
DTSTART:20270328T030000
RDATE:20271031T020000
TZOFFSETFROM:+0100
TZOFFSETTO:+0200
TZNAME:Europe/Berlin CEST
END:DAYLIGHT
BEGIN:DAYLIGHT
DTSTART:20280326T030000
RDATE:20281029T020000
TZOFFSETFROM:+0100
TZOFFSETTO:+0200
TZNAME:Europe/Berlin CEST
END:DAYLIGHT
END:VTIMEZONE
BEGIN:VEVENT
UID:5e90b1053aa75c8040ba77741a525212
CATEGORIES:Wanderprogramm
CREATED:20250116T085913
SUMMARY:Graf-Eberhard-Weg: Wildbad-Zavelstein
DESCRIPTION:Graf-Eberhard-Weg von Bad Wildbad bis Zavelstein\nJuliane Kluftinger, Brigi
 tte Otto\nTW, ÖPV\n5 h, 17 km\n
X-ALT-DESC;FMTTYPE=text/html:<table style="width: 544px;" width="406"><tbody><tr><td style="width: 356.6
 09px;" width="246"><p><strong>Graf-Eberhard-Weg von Bad Wildbad bis Zavelst
 ein</strong></p><p>Juliane Kluftinger, Brigitte Otto</p></td><td style="wid
 th: 180.391px;" width="95"><p>TW, <strong>ÖPV</strong></p><p>5 h, 17 km</p>
 </td></tr></tbody></table>
DTSTAMP:20260419T182044
DTSTART;TZID=Europe/Berlin;VALUE=DATE:20250601
DTEND;TZID=Europe/Berlin;VALUE=DATE:20250602
SEQUENCE:0
TRANSP:OPAQUE
END:VEVENT
END:VCALENDAR