BEGIN:VCALENDAR
VERSION:2.0
PRODID:-//jEvents 2.0 for Joomla//EN
CALSCALE:GREGORIAN
METHOD:PUBLISH
BEGIN:VTIMEZONE
TZID:Europe/Berlin
BEGIN:STANDARD
DTSTART:20241027T020000
RDATE:20250330T030000
TZOFFSETFROM:+0200
TZOFFSETTO:+0100
TZNAME:Europe/Berlin CET
END:STANDARD
BEGIN:STANDARD
DTSTART:20251026T020000
RDATE:20260329T030000
TZOFFSETFROM:+0200
TZOFFSETTO:+0100
TZNAME:Europe/Berlin CET
END:STANDARD
BEGIN:STANDARD
DTSTART:20261025T020000
RDATE:20270328T030000
TZOFFSETFROM:+0200
TZOFFSETTO:+0100
TZNAME:Europe/Berlin CET
END:STANDARD
BEGIN:STANDARD
DTSTART:20271031T020000
RDATE:20280326T030000
TZOFFSETFROM:+0200
TZOFFSETTO:+0100
TZNAME:Europe/Berlin CET
END:STANDARD
BEGIN:STANDARD
DTSTART:20281029T020000
RDATE:20290325T030000
TZOFFSETFROM:+0200
TZOFFSETTO:+0100
TZNAME:Europe/Berlin CET
END:STANDARD
BEGIN:DAYLIGHT
DTSTART:20240501T000000
RDATE:20241027T020000
TZOFFSETFROM:+0100
TZOFFSETTO:+0200
TZNAME:Europe/Berlin CEST
END:DAYLIGHT
BEGIN:DAYLIGHT
DTSTART:20250330T030000
RDATE:20251026T020000
TZOFFSETFROM:+0100
TZOFFSETTO:+0200
TZNAME:Europe/Berlin CEST
END:DAYLIGHT
BEGIN:DAYLIGHT
DTSTART:20260329T030000
RDATE:20261025T020000
TZOFFSETFROM:+0100
TZOFFSETTO:+0200
TZNAME:Europe/Berlin CEST
END:DAYLIGHT
BEGIN:DAYLIGHT
DTSTART:20270328T030000
RDATE:20271031T020000
TZOFFSETFROM:+0100
TZOFFSETTO:+0200
TZNAME:Europe/Berlin CEST
END:DAYLIGHT
BEGIN:DAYLIGHT
DTSTART:20280326T030000
RDATE:20281029T020000
TZOFFSETFROM:+0100
TZOFFSETTO:+0200
TZNAME:Europe/Berlin CEST
END:DAYLIGHT
END:VTIMEZONE
BEGIN:VEVENT
UID:0589d4cd0f2c116e28b5e5a2a9657d26
CATEGORIES:Wanderprogramm
CREATED:20250105T114903
SUMMARY:Jakobsweg Eifel 
DESCRIPTION:Auf dem Jakobsweg Eifel \nvon Waxweiler nach Trier,   max. 10 Pers.\nJulian
 e Kluftinger, Andreas Kirchvogel\nMW, ÖPV\n7 d, ca. 100 km\n
X-ALT-DESC;FMTTYPE=text/html:<table style="width: 530px;" width="406"><tbody><tr><td style="width: 349.6
 09px;" width="246"><p><strong>Auf dem Jakobsweg Eifel <br /></strong><stron
 g>von Waxweiler nach Trier,   </strong>max. 10 Pers.<br />Juliane Kluftinge
 r, Andreas Kirchvogel</p></td><td style="width: 173.391px;" width="95"><p>M
 W, <strong>ÖPV</strong></p><p>7 d, ca. 100 km</p></td></tr></tbody></table>
DTSTAMP:20260419T182045
DTSTART;TZID=Europe/Berlin;VALUE=DATE:20250502
DTEND;TZID=Europe/Berlin;VALUE=DATE:20250509
SEQUENCE:0
TRANSP:OPAQUE
END:VEVENT
END:VCALENDAR