BEGIN:VCALENDAR
VERSION:2.0
PRODID:-//jEvents 2.0 for Joomla//EN
CALSCALE:GREGORIAN
METHOD:PUBLISH
BEGIN:VTIMEZONE
TZID:Europe/Berlin
BEGIN:STANDARD
DTSTART:20251026T020000
RDATE:20260329T030000
TZOFFSETFROM:+0200
TZOFFSETTO:+0100
TZNAME:Europe/Berlin CET
END:STANDARD
BEGIN:STANDARD
DTSTART:20261025T020000
RDATE:20270328T030000
TZOFFSETFROM:+0200
TZOFFSETTO:+0100
TZNAME:Europe/Berlin CET
END:STANDARD
BEGIN:STANDARD
DTSTART:20271031T020000
RDATE:20280326T030000
TZOFFSETFROM:+0200
TZOFFSETTO:+0100
TZNAME:Europe/Berlin CET
END:STANDARD
BEGIN:STANDARD
DTSTART:20281029T020000
RDATE:20290325T030000
TZOFFSETFROM:+0200
TZOFFSETTO:+0100
TZNAME:Europe/Berlin CET
END:STANDARD
BEGIN:DAYLIGHT
DTSTART:20251007T000000
RDATE:20251026T020000
TZOFFSETFROM:+0100
TZOFFSETTO:+0200
TZNAME:Europe/Berlin CEST
END:DAYLIGHT
BEGIN:DAYLIGHT
DTSTART:20260329T030000
RDATE:20261025T020000
TZOFFSETFROM:+0100
TZOFFSETTO:+0200
TZNAME:Europe/Berlin CEST
END:DAYLIGHT
BEGIN:DAYLIGHT
DTSTART:20270328T030000
RDATE:20271031T020000
TZOFFSETFROM:+0100
TZOFFSETTO:+0200
TZNAME:Europe/Berlin CEST
END:DAYLIGHT
BEGIN:DAYLIGHT
DTSTART:20280326T030000
RDATE:20281029T020000
TZOFFSETFROM:+0100
TZOFFSETTO:+0200
TZNAME:Europe/Berlin CEST
END:DAYLIGHT
END:VTIMEZONE
BEGIN:VEVENT
UID:388c189a1792523fb11e1aa2b4379b39
CATEGORIES:Veranstaltungsprogramm
CREATED:20251230T153720
SUMMARY:Wanderführer-Treffen
DESCRIPTION:<p><strong style="mso-bidi-font-weight: normal;"><span style="font-size: 9.
 0pt; line-height: 107%; font-family: 'Arial',sans-serif; mso-fareast-font-f
 amily: Calibri; color: black; mso-ansi-language: DE; mso-fareast-language: 
 DE; mso-bidi-language: AR-SA;">Wanderführer-Treffen<br /></span></strong><s
 pan style="font-size: 9.0pt; line-height: 107%; font-family: 'Arial',sans-s
 erif; mso-fareast-font-family: Calibri; color: black; mso-ansi-language: DE
 ; mso-fareast-language: DE; mso-bidi-language: AR-SA;">Jutta Kirchvogel</sp
 an></p>
DTSTAMP:20260420T011322
DTSTART;TZID=Europe/Berlin;VALUE=DATE:20261008
DTEND;TZID=Europe/Berlin;VALUE=DATE:20261009
SEQUENCE:0
TRANSP:OPAQUE
END:VEVENT
END:VCALENDAR