BEGIN:VCALENDAR
VERSION:2.0
PRODID:-//jEvents 2.0 for Joomla//EN
CALSCALE:GREGORIAN
METHOD:PUBLISH
BEGIN:VTIMEZONE
TZID:Europe/Berlin
BEGIN:STANDARD
DTSTART:20241115T000000
RDATE:20250330T030000
TZOFFSETFROM:+0200
TZOFFSETTO:+0100
TZNAME:Europe/Berlin CET
END:STANDARD
BEGIN:STANDARD
DTSTART:20251026T020000
RDATE:20260329T030000
TZOFFSETFROM:+0200
TZOFFSETTO:+0100
TZNAME:Europe/Berlin CET
END:STANDARD
BEGIN:STANDARD
DTSTART:20261025T020000
RDATE:20270328T030000
TZOFFSETFROM:+0200
TZOFFSETTO:+0100
TZNAME:Europe/Berlin CET
END:STANDARD
BEGIN:STANDARD
DTSTART:20271031T020000
RDATE:20280326T030000
TZOFFSETFROM:+0200
TZOFFSETTO:+0100
TZNAME:Europe/Berlin CET
END:STANDARD
BEGIN:STANDARD
DTSTART:20281029T020000
RDATE:20290325T030000
TZOFFSETFROM:+0200
TZOFFSETTO:+0100
TZNAME:Europe/Berlin CET
END:STANDARD
BEGIN:DAYLIGHT
DTSTART:20250330T030000
RDATE:20251026T020000
TZOFFSETFROM:+0100
TZOFFSETTO:+0200
TZNAME:Europe/Berlin CEST
END:DAYLIGHT
BEGIN:DAYLIGHT
DTSTART:20260329T030000
RDATE:20261025T020000
TZOFFSETFROM:+0100
TZOFFSETTO:+0200
TZNAME:Europe/Berlin CEST
END:DAYLIGHT
BEGIN:DAYLIGHT
DTSTART:20270328T030000
RDATE:20271031T020000
TZOFFSETFROM:+0100
TZOFFSETTO:+0200
TZNAME:Europe/Berlin CEST
END:DAYLIGHT
BEGIN:DAYLIGHT
DTSTART:20280326T030000
RDATE:20281029T020000
TZOFFSETFROM:+0100
TZOFFSETTO:+0200
TZNAME:Europe/Berlin CEST
END:DAYLIGHT
END:VTIMEZONE
BEGIN:VEVENT
UID:6328a92f94e8b1771c4dc0e3c9e47374
CATEGORIES:Veranstaltungsprogramm
CREATED:20250116T100644
SUMMARY:Wandern& Astronomie(3): Planetenweg
DESCRIPTION:Wandern &amp; Astronomie (3): Planetenweg\nKarl-Heinz Schmidt, Thomas Holzh
 auser \nHW, ÖPV\n3,5 h, 13 km\n
X-ALT-DESC;FMTTYPE=text/html:<table style="width: 536px;" width="406"><tbody><tr><td style="width: 352.6
 09px;" width="246"><p><strong>Wandern &amp; Astronomie (3): Planetenweg<br 
 /></strong>Karl-Heinz Schmidt<strong>, </strong>Thomas Holzhauser<strong> <
 /strong></p></td><td style="width: 176.391px;" width="95"><p>HW, <strong>ÖP
 V</strong></p><p>3,5 h, 13 km</p></td></tr></tbody></table>
DTSTAMP:20260419T161047
DTSTART;TZID=Europe/Berlin;VALUE=DATE:20251116
DTEND;TZID=Europe/Berlin;VALUE=DATE:20251117
SEQUENCE:0
TRANSP:OPAQUE
END:VEVENT
END:VCALENDAR